BEGIN:VCALENDAR
VERSION:2.0
PRODID:-//wp-events-plugin.com//7.2.3.1//EN
TZID:America/New_York
X-WR-TIMEZONE:America/New_York
BEGIN:VEVENT
UID:937@ourbethel.org
DTSTART;TZID=America/New_York:20260425T190000
DTEND;TZID=America/New_York:20260425T210000
DTSTAMP:20260331T172827Z
URL:https://www.ourbethel.org/events/trivia-night/
SUMMARY:Trivia Night
DESCRIPTION:Join us for an exciting evening of trivia and fun for adults an
 d teens!
ATTACH;FMTTYPE=image/jpeg:https://www.ourbethel.org/wp-content/uploads/202
 6/03/trivia-night-26-cropped.png
END:VEVENT
BEGIN:VTIMEZONE
TZID:America/New_York
X-LIC-LOCATION:America/New_York
BEGIN:DAYLIGHT
DTSTART:20260308T030000
TZOFFSETFROM:-0500
TZOFFSETTO:-0400
TZNAME:EDT
END:DAYLIGHT
END:VTIMEZONE
END:VCALENDAR