BEGIN:VCALENDAR
VERSION:2.0
PRODID:-//wp-events-plugin.com//7.2.3.1//EN
TZID:America/New_York
X-WR-TIMEZONE:America/New_York
BEGIN:VEVENT
UID:56@ourbethel.org
DTSTART;TZID=America/New_York:20200528T170000
DTEND;TZID=America/New_York:20200528T180000
DTSTAMP:20200520T191053Z
URL:https://www.ourbethel.org/events/shavuot-night-live-bible-players-retu
 rn/
SUMMARY:"Shavuot Night Live" -- The Bible Players Return
DESCRIPTION:The Bible Players\, a Jewish improv comedy duo\, return for a v
 irtual exploration of Shavuot. This event will be great for families and k
 ids of all ages.
ATTACH;FMTTYPE=image/jpeg:https://www.ourbethel.org/wp-content/uploads/202
 0/05/The-Bible-Players.jpg
END:VEVENT
BEGIN:VTIMEZONE
TZID:America/New_York
X-LIC-LOCATION:America/New_York
BEGIN:DAYLIGHT
DTSTART:20200308T030000
TZOFFSETFROM:-0500
TZOFFSETTO:-0400
TZNAME:EDT
END:DAYLIGHT
END:VTIMEZONE
END:VCALENDAR