BEGIN:VCALENDAR
VERSION:2.0
PRODID:-//wp-events-plugin.com//7.2.3.1//EN
TZID:America/New_York
X-WR-TIMEZONE:America/New_York
BEGIN:VEVENT
UID:216@ourbethel.org
DTSTART;TZID=America/New_York:20211001T190000
DTEND;TZID=America/New_York:20211002T201500
DTSTAMP:20210913T214449Z
URL:https://www.ourbethel.org/events/shabbat-october-1-and-2/
SUMMARY:Shabbat -- October 1 and 2
DESCRIPTION:Join us for Shabbat Services. Services are now in the sanctuary
  or online. (Registration required to participate in the sanctuary.)
ATTACH;FMTTYPE=image/jpeg:https://www.ourbethel.org/wp-content/uploads/202
 0/02/ShabbatClipart.jpg
END:VEVENT
BEGIN:VTIMEZONE
TZID:America/New_York
X-LIC-LOCATION:America/New_York
BEGIN:DAYLIGHT
DTSTART:20210314T030000
TZOFFSETFROM:-0500
TZOFFSETTO:-0400
TZNAME:EDT
END:DAYLIGHT
END:VTIMEZONE
END:VCALENDAR