BEGIN:VCALENDAR
VERSION:2.0
PRODID:-//wp-events-plugin.com//7.2.3.1//EN
TZID:America/New_York
X-WR-TIMEZONE:America/New_York
BEGIN:VEVENT
UID:686@ourbethel.org
DTSTART;TZID=America/New_York:20241124T091500
DTEND;TZID=America/New_York:20241124T110000
DTSTAMP:20241112T161724Z
URL:https://www.ourbethel.org/events/learning-breakfast-with-rabbi-katz-th
 e-amen-effect-by-rabbi-sharon-brous/
SUMMARY:Learning Breakfast with Rabbi Katz: "The Amen Effect" by Rabbi Shar
 on Brous
DESCRIPTION:In this learning breakfast\, Rabbi Katz will explore the themes
  in Rabbi Sharon Brous's book "The Amen Effect."
ATTACH;FMTTYPE=image/jpeg:https://www.ourbethel.org/wp-content/uploads/202
 4/09/The-Amen-Effect-Image.jpg
END:VEVENT
BEGIN:VTIMEZONE
TZID:America/New_York
X-LIC-LOCATION:America/New_York
BEGIN:STANDARD
DTSTART:20241103T010000
TZOFFSETFROM:-0400
TZOFFSETTO:-0500
TZNAME:EST
END:STANDARD
END:VTIMEZONE
END:VCALENDAR