BEGIN:VCALENDAR
VERSION:2.0
PRODID:-//wp-events-plugin.com//7.2.3.1//EN
TZID:America/New_York
X-WR-TIMEZONE:America/New_York
BEGIN:VEVENT
UID:947@ourbethel.org
DTSTART;TZID=America/New_York:20260515T174500
DTEND;TZID=America/New_York:20260515T201500
DTSTAMP:20260421T155946Z
URL:https://www.ourbethel.org/events/israel-shabbat-and-pot-luck-dinner/
SUMMARY:Israel Shabbat and Pot-luck Dinner
DESCRIPTION:Get ready for a fun and scrumptious potluck Shabbat dinner\, fo
 llowed by an Israel-themed Erev Shabbat service at 7:00 p.m.!
ATTACH;FMTTYPE=image/jpeg:https://www.ourbethel.org/wp-content/uploads/202
 6/04/tasteofisraelimageforform.png
END:VEVENT
BEGIN:VTIMEZONE
TZID:America/New_York
X-LIC-LOCATION:America/New_York
BEGIN:DAYLIGHT
DTSTART:20260308T030000
TZOFFSETFROM:-0500
TZOFFSETTO:-0400
TZNAME:EDT
END:DAYLIGHT
END:VTIMEZONE
END:VCALENDAR